BEGIN:VCALENDAR
VERSION:2.0
PRODID:-//AASM Foundation - ECPv6.8.2//NONSGML v1.0//EN
CALSCALE:GREGORIAN
METHOD:PUBLISH
X-WR-CALNAME:AASM Foundation
X-ORIGINAL-URL:https://foundation.aasm.org
X-WR-CALDESC:Events for AASM Foundation
REFRESH-INTERVAL;VALUE=DURATION:PT1H
X-Robots-Tag:noindex
X-PUBLISHED-TTL:PT1H
BEGIN:VTIMEZONE
TZID:America/New_York
BEGIN:DAYLIGHT
TZOFFSETFROM:-0500
TZOFFSETTO:-0400
TZNAME:EDT
DTSTART:20230312T070000
END:DAYLIGHT
BEGIN:STANDARD
TZOFFSETFROM:-0400
TZOFFSETTO:-0500
TZNAME:EST
DTSTART:20231105T060000
END:STANDARD
END:VTIMEZONE
BEGIN:VEVENT
DTSTART;TZID=America/New_York:20231221T190000
DTEND;TZID=America/New_York:20231221T210000
DTSTAMP:20260424T023627
CREATED:20231025T191835Z
LAST-MODIFIED:20231025T191835Z
UID:8815-1703185200-1703192400@foundation.aasm.org
SUMMARY:SOAR Group Review: Research Strategy and Budget
DESCRIPTION:The Sleep Research Program for Advancing Careers (SOAR) is a research training program designed to support early career sleep and circadian investigators through a structured and mentored grant writing curriculum. Since 2020\, it has successfully provided early career sleep researchers with the support needed to successfully apply and obtain their first large career development research grant. \nThis AASM Foundation program is supported by ResMed\, Eisai and the American Academy of Sleep Medicine. \nNote: This lecture is only open to fellow and faculty for the 2023-2024 SOAR cohort.
URL:https://foundation.aasm.org/event/soar-group-review-research-strategy-and-budget/
LOCATION:Online
ATTACH;FMTTYPE=image/jpeg:https://foundation.aasm.org/wp-content/uploads/sites/2/2023/10/AASMF_SOAR_Launch_23_aasm_event_790x480.jpg
ORGANIZER;CN="American Academy of Sleep Medicine Foundation":MAILTO:foundation@aasm.org
END:VEVENT
END:VCALENDAR